BEGIN:VCALENDAR
VERSION:2.0
PRODID:-//STADTKULTUR HAMBURG//kultur-hamburg.de///DE
CALSCALE:GREGORIAN
BEGIN:VEVENT
X-WR-TIMEZONE:Europe/Berlin
DTSTART:20280303T180000
DTEND:20280303T200000
LOCATION:Zinnschmelze \, Maurienstraße 19 \, 22305 Hamburg
DTSTAMP:20260419T233707
SUMMARY:Cajon und HandPan
URL;VALUE=URI:https://www.kultur-hamburg.de/kurse_workshops/cajon-und-handpan-774458
DESCRIPTION:Cajon 18-19 Uhr

HandPan 19-20 Uhr
UID:894caf0edc0b2730bac7b3f83a8c2c46@kulturhamburg
END:VEVENT
END:VCALENDAR