BEGIN:VCALENDAR
VERSION:2.0
PRODID:-//STADTKULTUR HAMBURG//kultur-hamburg.de///DE
CALSCALE:GREGORIAN
BEGIN:VEVENT
X-WR-TIMEZONE:Europe/Berlin
DTSTART:20280310T180000
DTEND:20280310T200000
LOCATION:Zinnschmelze \, Maurienstraße 19 \, 22305 Hamburg
DTSTAMP:20260420T011215
SUMMARY:Cajon und HandPan
URL;VALUE=URI:https://www.kultur-hamburg.de/kurse_workshops/cajon-und-handpan-774459
DESCRIPTION:Cajon 18-19 Uhr

HandPan 19-20 Uhr
UID:906db795ef67b47ca4cef152f5092596@kulturhamburg
END:VEVENT
END:VCALENDAR