BEGIN:VCALENDAR
VERSION:2.0
PRODID:-//STADTKULTUR HAMBURG//kultur-hamburg.de///DE
CALSCALE:GREGORIAN
BEGIN:VEVENT
X-WR-TIMEZONE:Europe/Berlin
DTSTART:20280317T180000
DTEND:20280317T200000
LOCATION:Zinnschmelze \, Maurienstraße 19 \, 22305 Hamburg
DTSTAMP:20260420T030633
SUMMARY:Cajon und HandPan
URL;VALUE=URI:https://www.kultur-hamburg.de/kurse_workshops/cajon-und-handpan-774460
DESCRIPTION:Cajon 18-19 Uhr

HandPan 19-20 Uhr
UID:c775ab1b4d74f7e626a006194818c359@kulturhamburg
END:VEVENT
END:VCALENDAR