BEGIN:VCALENDAR
VERSION:2.0
PRODID:-//STADTKULTUR HAMBURG//kultur-hamburg.de///DE
CALSCALE:GREGORIAN
BEGIN:VEVENT
X-WR-TIMEZONE:Europe/Berlin
DTSTART:20280331T180000
DTEND:20280331T200000
LOCATION:Zinnschmelze \, Maurienstraße 19 \, 22305 Hamburg
DTSTAMP:20260420T063559
SUMMARY:Cajon und HandPan
URL;VALUE=URI:https://www.kultur-hamburg.de/kurse_workshops/cajon-und-handpan-774462
DESCRIPTION:Cajon 18-19 Uhr

HandPan 19-20 Uhr
UID:afc3da470f43b7c74ac9393245c4f0ae@kulturhamburg
END:VEVENT
END:VCALENDAR