BEGIN:VCALENDAR
VERSION:2.0
PRODID:-//STADTKULTUR HAMBURG//kultur-hamburg.de///DE
CALSCALE:GREGORIAN
BEGIN:VEVENT
X-WR-TIMEZONE:Europe/Berlin
DTSTART:20280407T180000
DTEND:20280407T200000
LOCATION:Zinnschmelze \, Maurienstraße 19 \, 22305 Hamburg
DTSTAMP:20260420T082222
SUMMARY:Cajon und HandPan
URL;VALUE=URI:https://www.kultur-hamburg.de/kurse_workshops/cajon-und-handpan-774463
DESCRIPTION:Cajon 18-19 Uhr

HandPan 19-20 Uhr
UID:ac7ad6a1e7e4d7b181ee72ded79f75dd@kulturhamburg
END:VEVENT
END:VCALENDAR