BEGIN:VCALENDAR
VERSION:2.0
PRODID:-//STADTKULTUR HAMBURG//kultur-hamburg.de///DE
CALSCALE:GREGORIAN
BEGIN:VEVENT
X-WR-TIMEZONE:Europe/Berlin
DTSTART:20280421T180000
DTEND:20280421T200000
LOCATION:Zinnschmelze \, Maurienstraße 19 \, 22305 Hamburg
DTSTAMP:20260422T111326
SUMMARY:Cajon und HandPan
URL;VALUE=URI:https://www.kultur-hamburg.de/kurse_workshops/cajon-und-handpan-774465
DESCRIPTION:Cajon 18-19 Uhr

HandPan 19-20 Uhr
UID:c615a499ccf6291f0b7feaa918c3469e@kulturhamburg
END:VEVENT
END:VCALENDAR