BEGIN:VCALENDAR
VERSION:2.0
PRODID:-//STADTKULTUR HAMBURG//kultur-hamburg.de///DE
CALSCALE:GREGORIAN
BEGIN:VEVENT
X-WR-TIMEZONE:Europe/Berlin
DTSTART:20280512T180000
DTEND:20280512T200000
LOCATION:Zinnschmelze \, Maurienstraße 19 \, 22305 Hamburg
DTSTAMP:20260422T160732
SUMMARY:Cajon und HandPan
URL;VALUE=URI:https://www.kultur-hamburg.de/kurse_workshops/cajon-und-handpan-774468
DESCRIPTION:Cajon 18-19 Uhr

HandPan 19-20 Uhr
UID:a0b63e351a41c3d7caaf2bdcbb09ab76@kulturhamburg
END:VEVENT
END:VCALENDAR