BEGIN:VCALENDAR
VERSION:2.0
PRODID:-//STADTKULTUR HAMBURG//kultur-hamburg.de///DE
CALSCALE:GREGORIAN
BEGIN:VEVENT
X-WR-TIMEZONE:Europe/Berlin
DTSTART:20280519T180000
DTEND:20280519T200000
LOCATION:Zinnschmelze \, Maurienstraße 19 \, 22305 Hamburg
DTSTAMP:20260422T175946
SUMMARY:Cajon und HandPan
URL;VALUE=URI:https://www.kultur-hamburg.de/kurse_workshops/cajon-und-handpan-774469
DESCRIPTION:Cajon 18-19 Uhr

HandPan 19-20 Uhr
UID:afefdb9d752be35861bd80f8431585dc@kulturhamburg
END:VEVENT
END:VCALENDAR