BEGIN:VCALENDAR
VERSION:2.0
PRODID:-//STADTKULTUR HAMBURG//kultur-hamburg.de///DE
CALSCALE:GREGORIAN
BEGIN:VEVENT
X-WR-TIMEZONE:Europe/Berlin
DTSTART:20280526T180000
DTEND:20280526T200000
LOCATION:Zinnschmelze \, Maurienstraße 19 \, 22305 Hamburg
DTSTAMP:20260422T193625
SUMMARY:Cajon und HandPan
URL;VALUE=URI:https://www.kultur-hamburg.de/kurse_workshops/cajon-und-handpan-774470
DESCRIPTION:Cajon 18-19 Uhr

HandPan 19-20 Uhr
UID:93ab2547c3656bc19629969115e075ed@kulturhamburg
END:VEVENT
END:VCALENDAR