BEGIN:VCALENDAR
VERSION:2.0
PRODID:-//STADTKULTUR HAMBURG//kultur-hamburg.de///DE
CALSCALE:GREGORIAN
BEGIN:VEVENT
X-WR-TIMEZONE:Europe/Berlin
DTSTART:20280602T180000
DTEND:20280602T200000
LOCATION:Zinnschmelze \, Maurienstraße 19 \, 22305 Hamburg
DTSTAMP:20260422T212929
SUMMARY:Cajon und HandPan
URL;VALUE=URI:https://www.kultur-hamburg.de/kurse_workshops/cajon-und-handpan-774471
DESCRIPTION:Cajon 18-19 Uhr

HandPan 19-20 Uhr
UID:aa52d19da301e3cf63b4dff1438ef766@kulturhamburg
END:VEVENT
END:VCALENDAR