BEGIN:VCALENDAR
VERSION:2.0
PRODID:-//STADTKULTUR HAMBURG//kultur-hamburg.de///DE
CALSCALE:GREGORIAN
BEGIN:VEVENT
X-WR-TIMEZONE:Europe/Berlin
DTSTART:20280616T180000
DTEND:20280616T200000
LOCATION:Zinnschmelze \, Maurienstraße 19 \, 22305 Hamburg
DTSTAMP:20260423T005328
SUMMARY:Cajon und HandPan
URL;VALUE=URI:https://www.kultur-hamburg.de/kurse_workshops/cajon-und-handpan-774473
DESCRIPTION:Cajon 18-19 Uhr

HandPan 19-20 Uhr
UID:c35fe553c2c4ccf26f8695efd46dcf74@kulturhamburg
END:VEVENT
END:VCALENDAR