BEGIN:VCALENDAR
VERSION:2.0
PRODID:-//STADTKULTUR HAMBURG//kultur-hamburg.de///DE
CALSCALE:GREGORIAN
BEGIN:VEVENT
X-WR-TIMEZONE:Europe/Berlin
DTSTART:20250908T090000
DTEND:20250908T102500
LOCATION:Goldbekhaus \, Moorfuhrtweg 9 \, 22301 Hamburg
DTSTAMP:20260421T152642
SUMMARY:Fit ab 50 I
URL;VALUE=URI:https://www.kultur-hamburg.de/kurse_workshops/fit-ab-50-i-778760
DESCRIPTION:
UID:01736ee5cddeae31597c9c7c5fd2815b@kulturhamburg
END:VEVENT
END:VCALENDAR