BEGIN:VCALENDAR
VERSION:2.0
PRODID:-//STADTKULTUR HAMBURG//kultur-hamburg.de///DE
CALSCALE:GREGORIAN
BEGIN:VEVENT
X-WR-TIMEZONE:Europe/Berlin
DTSTART:20251103T140000
DTEND:20251103T153000
LOCATION:Kulturladen St.Georg e.V. \, Alexanderstr.16 \, 20099 Hamburg
DTSTAMP:20260422T045617
SUMMARY:Digitalkurs für Senior*innen
URL;VALUE=URI:https://www.kultur-hamburg.de/kurse_workshops/digitalkurs-fuer-seniorinnen-780823
DESCRIPTION:Johannes Zerr erwartet Euch und hilft Euch bei jeglichen Problemen rund um Eure digitalen Geräte. Kommt pünktlich und bringt Zeit mit. 

Mit freundlicher Unterstützung der Georg Stilke Stiftung
UID:1f1f0c05f27f6d452b7a567288853493@kulturhamburg
END:VEVENT
END:VCALENDAR