BEGIN:VCALENDAR
VERSION:2.0
PRODID:-//STADTKULTUR HAMBURG//kultur-hamburg.de///DE
CALSCALE:GREGORIAN
BEGIN:VEVENT
X-WR-TIMEZONE:Europe/Berlin
DTSTART:20260528T193000
DTEND:20260528T210000
LOCATION:Mut! Theater \, Amandastraße 58 \, 20357 Hamburg
DTSTAMP:20260421T122249
SUMMARY:ISA Aufführung
URL;VALUE=URI:https://www.kultur-hamburg.de/veranstaltungen/isa-auffuehrung-782105
DESCRIPTION:Beschreibung: Unveröffentlichtes Rohmaterial und Highlights aus den Studienarbeiten der Student/innen der iSA - internationale Schauspiel-Akademie für Film und Theater.
UID:09911fad374276703328db2a150df02f@kulturhamburg
END:VEVENT
END:VCALENDAR