BEGIN:VCALENDAR
VERSION:2.0
PRODID:-//STADTKULTUR HAMBURG//kultur-hamburg.de///DE
CALSCALE:GREGORIAN
BEGIN:VEVENT
X-WR-TIMEZONE:Europe/Berlin
DTSTART:20251028T100000
DTEND:20251028T120000
LOCATION:Goldbekhaus \, Moorfuhrtweg 9 \, 22301 Hamburg
DTSTAMP:20260422T030616
SUMMARY:Interkulturelles Frauenfrühstück
URL;VALUE=URI:https://www.kultur-hamburg.de/kurse_workshops/interkulturelles-frauenfruehstueck-785246
DESCRIPTION:Für Frauen aller Kulturen.
UID:b4d5596c978a2afa0d5cd7e0bd575452@kulturhamburg
END:VEVENT
END:VCALENDAR