BEGIN:VCALENDAR
VERSION:2.0
PRODID:-//STADTKULTUR HAMBURG//kultur-hamburg.de///DE
CALSCALE:GREGORIAN
BEGIN:VEVENT
X-WR-TIMEZONE:Europe/Berlin
DTSTART:20271207T170000
DTEND:20271207T190000
LOCATION:Zinnschmelze \, Maurienstraße 19 \, 22305 Hamburg
DTSTAMP:20260421T170949
SUMMARY:Capoeira für Kinder, Jugendliche und Erwachsene
URL;VALUE=URI:https://www.kultur-hamburg.de/kurse_workshops/capoeira-fuer-kinder-jugendliche-und-erwachsene-786476
DESCRIPTION:„Kampf, Tanz, Akrobatik, Musik, Bewegung, Spaß, Tipps für‘s Leben?! Capoeira, die brasilianische Kampfkunst, bietet Dir das alles in eins! Wir freuen uns auf dich!“
UID:a90152784bbc0c4017a14d8112f0be76@kulturhamburg
END:VEVENT
END:VCALENDAR