BEGIN:VCALENDAR
VERSION:2.0
PRODID:-//STADTKULTUR HAMBURG//kultur-hamburg.de///DE
CALSCALE:GREGORIAN
BEGIN:VEVENT
X-WR-TIMEZONE:Europe/Berlin
DTSTART:20280208T170000
DTEND:20280208T190000
LOCATION:Zinnschmelze \, Maurienstraße 19 \, 22305 Hamburg
DTSTAMP:20260419T183648
SUMMARY:Capoeira für Kinder, Jugendliche und Erwachsene
URL;VALUE=URI:https://www.kultur-hamburg.de/kurse_workshops/capoeira-fuer-kinder-jugendliche-und-erwachsene-786485
DESCRIPTION:„Kampf, Tanz, Akrobatik, Musik, Bewegung, Spaß, Tipps für‘s Leben?! Capoeira, die brasilianische Kampfkunst, bietet Dir das alles in eins! Wir freuen uns auf dich!“
UID:603145f6fec5e426750497eb27373357@kulturhamburg
END:VEVENT
END:VCALENDAR