BEGIN:VCALENDAR
VERSION:2.0
PRODID:-//STADTKULTUR HAMBURG//kultur-hamburg.de///DE
CALSCALE:GREGORIAN
BEGIN:VEVENT
X-WR-TIMEZONE:Europe/Berlin
DTSTART:20251006T090000
DTEND:20251010T140000
LOCATION:Lola Rogge Schule \, Landwehr 11-13 \, 22087 Hamburg
DTSTAMP:20260421T220051
SUMMARY:Probewoche Berufsausbildung Tanzpädagogik Lola Rogge Schule
URL;VALUE=URI:https://www.kultur-hamburg.de/kurse_workshops/probewoche-berufsausbildung-tanzpaedagogik-lola-rogge-schule-786567
DESCRIPTION:Kostenlose Möglichkeit der Aufnahme in die neue Klasse 1 statt Aufnahmeprüfung!
UID:cffc46cc428ce1643809430414c9158a@kulturhamburg
END:VEVENT
END:VCALENDAR