BEGIN:VCALENDAR
VERSION:2.0
PRODID:-//STADTKULTUR HAMBURG//kultur-hamburg.de///DE
CALSCALE:GREGORIAN
BEGIN:VEVENT
X-WR-TIMEZONE:Europe/Berlin
DTSTART:20260613T200000
DTEND:20260613T220000
LOCATION:Zinnschmelze \, Maurienstraße 19 \, 22305 Hamburg
DTSTAMP:20260423T014339
SUMMARY:PiazuTrio
URL;VALUE=URI:https://www.kultur-hamburg.de/veranstaltungen/piazutrio-786571
DESCRIPTION:Kammermusikalische Klezmer- und Weltmusik mit einem klaren, akustischen Klang.
UID:875a1a54f05f9d15c18e94ba1e0a7460@kulturhamburg
END:VEVENT
END:VCALENDAR