BEGIN:VCALENDAR
VERSION:2.0
PRODID:-//STADTKULTUR HAMBURG//kultur-hamburg.de///DE
CALSCALE:GREGORIAN
BEGIN:VEVENT
X-WR-TIMEZONE:Europe/Berlin
DTSTART:20260502T130000
DTEND:20260502T160000
LOCATION:Horner Freiheit \, Am Gojenboom 46 \, 22111 Hamburg
DTSTAMP:20260419T152746
SUMMARY:HORNER.MARKT.FREIHEIT
URL;VALUE=URI:https://www.kultur-hamburg.de/veranstaltungen/horner.markt.freiheit-787929
DESCRIPTION:Handgemachtes, Saisonale Marktstände
Jeden 1. Samstagim Monat,von 13-17 Uhr Stadtteilhaus Horn - Am Gojenboom 46, 22111 Hamburg
UID:dfee8739a79a8a26e3aaf1796aad38a9@kulturhamburg
END:VEVENT
END:VCALENDAR