BEGIN:VCALENDAR
VERSION:2.0
PRODID:-//STADTKULTUR HAMBURG//kultur-hamburg.de///DE
CALSCALE:GREGORIAN
BEGIN:VEVENT
X-WR-TIMEZONE:Europe/Berlin
DTSTART:20260606T130000
DTEND:20260606T160000
LOCATION:Horner Freiheit \, Am Gojenboom 46 \, 22111 Hamburg
DTSTAMP:20260425T224818
SUMMARY:HORNER.MARKT.FREIHEIT
URL;VALUE=URI:https://www.kultur-hamburg.de/veranstaltungen/horner.markt.freiheit-787930
DESCRIPTION:Handgemachtes, Saisonale Marktstände
Jeden 1. Samstagim Monat,von 13-17 Uhr Stadtteilhaus Horn - Am Gojenboom 46, 22111 Hamburg
UID:b2f3dc17e708cdcbf53ed0c116cdac53@kulturhamburg
END:VEVENT
END:VCALENDAR