BEGIN:VCALENDAR
VERSION:2.0
PRODID:-//STADTKULTUR HAMBURG//kultur-hamburg.de///DE
CALSCALE:GREGORIAN
BEGIN:VEVENT
X-WR-TIMEZONE:Europe/Berlin
DTSTART:20260516T110000
DTEND:20260516T130000
LOCATION:Kultur Palast Hamburg \, Öjendorfer Weg 30a \, 22119 Hamburg
DTSTAMP:20260419T220619
SUMMARY:Foodsharing Kochevent
URL;VALUE=URI:https://www.kultur-hamburg.de/veranstaltungen/foodsharing-kochevent-788664
DESCRIPTION:Zu viele Lebensmittel landen im Müll! Bei der Foodsharing-Kochaktion mit dem Nachhaltigkeits-Experten Nils Schmidt am Herd wird Gemüse gerettet. Wer mitkochen möchte, kommt schon vor 11 Uhr.
UID:d02dc82b3232fa9735eab6d18e7a3d63@kulturhamburg
END:VEVENT
END:VCALENDAR