BEGIN:VCALENDAR
VERSION:2.0
PRODID:-//STADTKULTUR HAMBURG//kultur-hamburg.de///DE
CALSCALE:GREGORIAN
BEGIN:VEVENT
X-WR-TIMEZONE:Europe/Berlin
DTSTART:20260620T220000
DTEND:20260621T040000
LOCATION:MOTTE VERANSTALTUNGEN \, Rothestraße 48 \, 22765 Hamburg
DTSTAMP:20260423T132950
SUMMARY:Northern Soul MOTTE Allnighter
URL;VALUE=URI:https://www.kultur-hamburg.de/veranstaltungen/northern-soul-motte-allnighter-789856
DESCRIPTION:If you are serious about Northern Soul, this is the place to be !
UID:9bff838fa30affdc25fe558bbd0074bb@kulturhamburg
END:VEVENT
END:VCALENDAR