BEGIN:VCALENDAR
VERSION:2.0
PRODID:-//STADTKULTUR HAMBURG//kultur-hamburg.de///DE
CALSCALE:GREGORIAN
BEGIN:VEVENT
X-WR-TIMEZONE:Europe/Berlin
DTSTART:20260626T200000
DTEND:20260626T213000
LOCATION:MOTTE VERANSTALTUNGEN \, Rothestraße 48 \, 22765 Hamburg
DTSTAMP:20260423T224911
SUMMARY:Poetry Slam: Flüstertüte
URL;VALUE=URI:https://www.kultur-hamburg.de/veranstaltungen/poetry-slam-fluestertuete-789857
DESCRIPTION:
UID:d6c3efc4a77127b44ede6279b082671d@kulturhamburg
END:VEVENT
END:VCALENDAR