BEGIN:VCALENDAR
VERSION:2.0
PRODID:-//STADTKULTUR HAMBURG//kultur-hamburg.de///DE
CALSCALE:GREGORIAN
BEGIN:VEVENT
X-WR-TIMEZONE:Europe/Berlin
DTSTART:20260519T090000
DTEND:20260519T163000
LOCATION:Horner Freiheit \, Am Gojenboom 46 \, 22111 Hamburg
DTSTAMP:20260422T212955
SUMMARY:Soft-Aid: Erste Hilfe Kurse
URL;VALUE=URI:https://www.kultur-hamburg.de/veranstaltungen/soft-aid-erste-hilfe-kurse-790196
DESCRIPTION:Erste-Hilfe-Kurs neu definiert
UID:15a39d8283562b4b62003a3ebccf5bb0@kulturhamburg
END:VEVENT
END:VCALENDAR