BEGIN:VCALENDAR
VERSION:2.0
PRODID:-//STADTKULTUR HAMBURG//kultur-hamburg.de///DE
CALSCALE:GREGORIAN
BEGIN:VEVENT
X-WR-TIMEZONE:Europe/Berlin
DTSTART:20260522T200000
DTEND:20260522T220000
LOCATION:KUNSTKLINIK \, Martinistraße 44a \, 20251 Hamburg
DTSTAMP:20260423T023328
SUMMARY:Konzert: Hamburg School of Music – Live and unleashed (mit Chrissy Lou & Ernst Urban)
URL;VALUE=URI:https://www.kultur-hamburg.de/veranstaltungen/konzert-hamburg-school-of-music--live-and-unleashed-mit-chrissy-lou-&-ernst-urban-791899
DESCRIPTION:Seit 25 Jahren bildet die Hamburg School of Music Profimusiker:innen aus. An diesem Abend live: Chrissy Lou mit träumerischem Indie-Pop und Ernst Urban mit organischem und atmosphärischen Sound.
UID:bad98647042e5868a9f37d21dba0c519@kulturhamburg
END:VEVENT
END:VCALENDAR