BEGIN:VCALENDAR
VERSION:2.0
PRODID:-//STADTKULTUR HAMBURG//kultur-hamburg.de///DE
CALSCALE:GREGORIAN
BEGIN:VEVENT
X-WR-TIMEZONE:Europe/Berlin
DTSTART:20260511T110000
DTEND:20260511T120000
LOCATION:KUNSTKLINIK \, Martinistraße 44a \, 20251 Hamburg
DTSTAMP:20260420T063554
SUMMARY:Singen für Menschen mit Demenz
URL;VALUE=URI:https://www.kultur-hamburg.de/veranstaltungen/singen-fuer-menschen-mit-demenz-792219
DESCRIPTION:Immer am 3. Montag im Monat lädt Rika Tjakea Menschen mit Demenz zum Singen alter Volkslieder und Schlager ein.
Teilnahme frei, nur mit Anmeldung: 040 / 780 50 400, info@kunstklinik.hamburg
UID:8abda097a8f5dc7c815c88ccfd04cb4b@kulturhamburg
END:VEVENT
END:VCALENDAR