BEGIN:VCALENDAR
VERSION:2.0
PRODID:-//STADTKULTUR HAMBURG//kultur-hamburg.de///DE
CALSCALE:GREGORIAN
BEGIN:VEVENT
X-WR-TIMEZONE:Europe/Berlin
DTSTART:20251225T170500
DTEND:20260305T180500
LOCATION:Lola Rogge Schule \, Landwehr 11-13 \, 22087 Hamburg
DTSTAMP:20260422T160732
SUMMARY:LOLA ROGGE SCHULE: Ballett für Teens mit Sonderpreis!
URL;VALUE=URI:https://www.kultur-hamburg.de/kurse_workshops/lola-rogge-schule-ballett-fuer-teens-mit-sonderpreis!-792285
DESCRIPTION:Du tanzt gerne Ballett oder möchtest es erlernen? Wir haben noch freie Plätze im Kurs „Ballett Vorbereitung“ mit Alexandra Cirec in der Lola Rogge Schule im Kiebitzhof! Immer donnerstags (außer in den Hamburger Schulferien) von 17:05 bis 18:05 Uhr. Komm vorbei zur kostenlosen Probestunde!
UID:71eb54ced449c2b9a8280b9ed8087981@kulturhamburg
END:VEVENT
END:VCALENDAR