BEGIN:VCALENDAR
VERSION:2.0
PRODID:-//STADTKULTUR HAMBURG//kultur-hamburg.de///DE
CALSCALE:GREGORIAN
BEGIN:VEVENT
X-WR-TIMEZONE:Europe/Berlin
DTSTART:20260520T140000
DTEND:20260520T150000
LOCATION:Horner Freiheit \, Am Gojenboom 46 \, 22111 Hamburg
DTSTAMP:20260422T230908
SUMMARY:Kleiderkammer
URL;VALUE=URI:https://www.kultur-hamburg.de/veranstaltungen/kleiderkammer-792667
DESCRIPTION:Jeden Mittwoch im Saal oder auf dem Marktplatz
UID:da9384839fb98701fc2a6814b7148fb4@kulturhamburg
END:VEVENT
END:VCALENDAR