BEGIN:VCALENDAR
VERSION:2.0
PRODID:-//STADTKULTUR HAMBURG//kultur-hamburg.de///DE
CALSCALE:GREGORIAN
BEGIN:VEVENT
X-WR-TIMEZONE:Europe/Berlin
DTSTART:20260527T140000
DTEND:20260527T150000
LOCATION:Horner Freiheit \, Am Gojenboom 46 \, 22111 Hamburg
DTSTAMP:20260423T110614
SUMMARY:Kleiderkammer
URL;VALUE=URI:https://www.kultur-hamburg.de/veranstaltungen/kleiderkammer-792668
DESCRIPTION:Jeden Mittwoch im Saal oder auf dem Marktplatz
UID:b1bdf65f03f2c1c59a75b6170a568b89@kulturhamburg
END:VEVENT
END:VCALENDAR