BEGIN:VCALENDAR
VERSION:2.0
PRODID:-//STADTKULTUR HAMBURG//kultur-hamburg.de///DE
CALSCALE:GREGORIAN
BEGIN:VEVENT
X-WR-TIMEZONE:Europe/Berlin
DTSTART:20260603T140000
DTEND:20260603T150000
LOCATION:Horner Freiheit \, Am Gojenboom 46 \, 22111 Hamburg
DTSTAMP:20260425T173330
SUMMARY:Kleiderkammer
URL;VALUE=URI:https://www.kultur-hamburg.de/veranstaltungen/kleiderkammer-792669
DESCRIPTION:Jeden Mittwoch im Saal oder auf dem Marktplatz
UID:a5802afd6d20b48e6875dbd0a1ea0dfc@kulturhamburg
END:VEVENT
END:VCALENDAR