BEGIN:VCALENDAR
VERSION:2.0
PRODID:-//STADTKULTUR HAMBURG//kultur-hamburg.de///DE
CALSCALE:GREGORIAN
BEGIN:VEVENT
X-WR-TIMEZONE:Europe/Berlin
DTSTART:20260610T140000
DTEND:20260610T150000
LOCATION:Horner Freiheit \, Am Gojenboom 46 \, 22111 Hamburg
DTSTAMP:20260426T061317
SUMMARY:Kleiderkammer
URL;VALUE=URI:https://www.kultur-hamburg.de/veranstaltungen/kleiderkammer-792670
DESCRIPTION:Jeden Mittwoch im Saal oder auf dem Marktplatz
UID:021cda656ec6f35a4ea33357da6a9b91@kulturhamburg
END:VEVENT
END:VCALENDAR