BEGIN:VCALENDAR
VERSION:2.0
PRODID:-//STADTKULTUR HAMBURG//kultur-hamburg.de///DE
CALSCALE:GREGORIAN
BEGIN:VEVENT
X-WR-TIMEZONE:Europe/Berlin
DTSTART:20260516T200000
DTEND:20260516T220000
LOCATION:Mut! Theater \, Amandastraße 58 \, 20357 Hamburg
DTSTAMP:20260422T160020
SUMMARY:ŞENKOP/ Konzert- Musiktheater
URL;VALUE=URI:https://www.kultur-hamburg.de/veranstaltungen/enkop-konzert-musiktheater-792701
DESCRIPTION:"Şenkop" leitet seinen Namen von zwei kraftvollen Elementen ab: "Şen"
, dem türkischen
Wort für Freude und Fröhlichkeit, und "Synkope"
, der rhythmischen Technik, die der Musik
Spannung und unerwartete Akzente verleiht.
UID:e017a3fffec6da1b6bec5fe9c90cfbcc@kulturhamburg
END:VEVENT
END:VCALENDAR