BEGIN:VCALENDAR
VERSION:2.0
PRODID:-//STADTKULTUR HAMBURG//kultur-hamburg.de///DE
CALSCALE:GREGORIAN
BEGIN:VEVENT
X-WR-TIMEZONE:Europe/Berlin
DTSTART:20260515T100000
DTEND:20260515T130000
LOCATION:Horner Freiheit \, Am Gojenboom 46 \, 22111 Hamburg
DTSTAMP:20260422T142325
SUMMARY:Rollstuhlberatung mit Rehability
URL;VALUE=URI:https://www.kultur-hamburg.de/veranstaltungen/rollstuhlberatung-mit-rehability-793149
DESCRIPTION:Rad-Geber - Deine kostenlose Rollstuhl-Sprechstunde
UID:8a8f07f0824a2aa721c6549849ccebdb@kulturhamburg
END:VEVENT
END:VCALENDAR