BEGIN:VCALENDAR
VERSION:2.0
PRODID:-//STADTKULTUR HAMBURG//kultur-hamburg.de///DE
CALSCALE:GREGORIAN
BEGIN:VEVENT
X-WR-TIMEZONE:Europe/Berlin
DTSTART:20260521T160000
DTEND:20260521T183000
LOCATION:Horner Freiheit \, Am Gojenboom 46 \, 22111 Hamburg
DTSTAMP:20260423T005414
SUMMARY:Spaß am Tischtennis Ü50!
URL;VALUE=URI:https://www.kultur-hamburg.de/veranstaltungen/spass-am-tischtennis-ue50!-793415
DESCRIPTION:
UID:1a7d49f2014b404b3c1187eb0ebab763@kulturhamburg
END:VEVENT
END:VCALENDAR