BEGIN:VCALENDAR
VERSION:2.0
PRODID:-//STADTKULTUR HAMBURG//kultur-hamburg.de///DE
CALSCALE:GREGORIAN
BEGIN:VEVENT
X-WR-TIMEZONE:Europe/Berlin
DTSTART:20260225T180000
DTEND:20260225T210000
LOCATION:Horner Freiheit \, Am Gojenboom 46 \, 22111 Hamburg
DTSTAMP:20260422T111455
SUMMARY:Rollenspieltreff SDNV e.V.
URL;VALUE=URI:https://www.kultur-hamburg.de/veranstaltungen/rollenspieltreff-sdnv-e.v.-793654
DESCRIPTION:
UID:2027e3e50b04e8a62b3bfd953e9bad14@kulturhamburg
END:VEVENT
END:VCALENDAR