BEGIN:VCALENDAR
VERSION:2.0
PRODID:-//STADTKULTUR HAMBURG//kultur-hamburg.de///DE
CALSCALE:GREGORIAN
BEGIN:VEVENT
X-WR-TIMEZONE:Europe/Berlin
DTSTART:20260506T180000
DTEND:20260506T210000
LOCATION:Horner Freiheit \, Am Gojenboom 46 \, 22111 Hamburg
DTSTAMP:20260419T220028
SUMMARY:Rollenspieltreff SDNV e.V.
URL;VALUE=URI:https://www.kultur-hamburg.de/veranstaltungen/rollenspieltreff-sdnv-e.v.-793664
DESCRIPTION:
UID:d115ce92e058275ad7e67c68b2c0de5c@kulturhamburg
END:VEVENT
END:VCALENDAR