BEGIN:VCALENDAR
VERSION:2.0
PRODID:-//STADTKULTUR HAMBURG//kultur-hamburg.de///DE
CALSCALE:GREGORIAN
BEGIN:VEVENT
X-WR-TIMEZONE:Europe/Berlin
DTSTART:20260513T180000
DTEND:20260513T210000
LOCATION:Horner Freiheit \, Am Gojenboom 46 \, 22111 Hamburg
DTSTAMP:20260420T100452
SUMMARY:Rollenspieltreff SDNV e.V.
URL;VALUE=URI:https://www.kultur-hamburg.de/veranstaltungen/rollenspieltreff-sdnv-e.v.-793665
DESCRIPTION:
UID:cb2d3fd0f01898257351fa94362e147d@kulturhamburg
END:VEVENT
END:VCALENDAR