BEGIN:VCALENDAR
VERSION:2.0
PRODID:-//STADTKULTUR HAMBURG//kultur-hamburg.de///DE
CALSCALE:GREGORIAN
BEGIN:VEVENT
X-WR-TIMEZONE:Europe/Berlin
DTSTART:20260610T180000
DTEND:20260610T210000
LOCATION:Horner Freiheit \, Am Gojenboom 46 \, 22111 Hamburg
DTSTAMP:20260426T061247
SUMMARY:Rollenspieltreff SDNV e.V.
URL;VALUE=URI:https://www.kultur-hamburg.de/veranstaltungen/rollenspieltreff-sdnv-e.v.-793669
DESCRIPTION:
UID:2f8f6361abd84060e98bf26fdd4f437f@kulturhamburg
END:VEVENT
END:VCALENDAR