BEGIN:VCALENDAR
VERSION:2.0
PRODID:-//STADTKULTUR HAMBURG//kultur-hamburg.de///DE
CALSCALE:GREGORIAN
BEGIN:VEVENT
X-WR-TIMEZONE:Europe/Berlin
DTSTART:20260514T180000
DTEND:20260514T190000
LOCATION:Horner Freiheit \, Am Gojenboom 46 \, 22111 Hamburg
DTSTAMP:20260422T111424
SUMMARY:Offenes Singen
URL;VALUE=URI:https://www.kultur-hamburg.de/veranstaltungen/offenes-singen-793734
DESCRIPTION:Am 2. Donnerstag des Monats treffen sich die Nachbarschaft und alle Interessierten zum gemeinsamen Singen am Stadtteilhaus Horn
UID:ccba18453be4fd6845c54069e4c04a9d@kulturhamburg
END:VEVENT
END:VCALENDAR