BEGIN:VCALENDAR
VERSION:2.0
PRODID:-//STADTKULTUR HAMBURG//kultur-hamburg.de///DE
CALSCALE:GREGORIAN
BEGIN:VEVENT
X-WR-TIMEZONE:Europe/Berlin
DTSTART:20260514T183000
DTEND:20260514T203000
LOCATION:Horner Freiheit \, Am Gojenboom 46 \, 22111 Hamburg
DTSTAMP:20260422T111403
SUMMARY:Verlor'n in Horn?
URL;VALUE=URI:https://www.kultur-hamburg.de/veranstaltungen/verlor'n-in-horn-793756
DESCRIPTION:Wir spielen Tischtennis!
UID:415d70b8ec81e2b5206741f24e291582@kulturhamburg
END:VEVENT
END:VCALENDAR