BEGIN:VCALENDAR
VERSION:2.0
PRODID:-//STADTKULTUR HAMBURG//kultur-hamburg.de///DE
CALSCALE:GREGORIAN
BEGIN:VEVENT
X-WR-TIMEZONE:Europe/Berlin
DTSTART:20260528T183000
DTEND:20260528T203000
LOCATION:Horner Freiheit \, Am Gojenboom 46 \, 22111 Hamburg
DTSTAMP:20260423T124136
SUMMARY:Verlor'n in Horn?
URL;VALUE=URI:https://www.kultur-hamburg.de/veranstaltungen/verlor'n-in-horn-793758
DESCRIPTION:Wir spielen Tischtennis!
UID:46cc6e5243d36e7efd67130478d87f04@kulturhamburg
END:VEVENT
END:VCALENDAR