BEGIN:VCALENDAR
VERSION:2.0
PRODID:-//STADTKULTUR HAMBURG//kultur-hamburg.de///DE
CALSCALE:GREGORIAN
BEGIN:VEVENT
X-WR-TIMEZONE:Europe/Berlin
DTSTART:20260604T183000
DTEND:20260604T203000
LOCATION:Horner Freiheit \, Am Gojenboom 46 \, 22111 Hamburg
DTSTAMP:20260425T191615
SUMMARY:Verlor'n in Horn?
URL;VALUE=URI:https://www.kultur-hamburg.de/veranstaltungen/verlor'n-in-horn-793759
DESCRIPTION:Wir spielen Tischtennis!
UID:64fc49c51ec00f45d80d3cf08e6ca6f3@kulturhamburg
END:VEVENT
END:VCALENDAR