BEGIN:VCALENDAR
VERSION:2.0
PRODID:-//STADTKULTUR HAMBURG//kultur-hamburg.de///DE
CALSCALE:GREGORIAN
BEGIN:VEVENT
X-WR-TIMEZONE:Europe/Berlin
DTSTART:20260422T180000
DTEND:20260422T193000
LOCATION:Zinnschmelze \, Maurienstraße 19 \, 22305 Hamburg
DTSTAMP:20260421T233048
SUMMARY:Hip-Hop Tanzkurs "Creative Flow"
URL;VALUE=URI:https://www.kultur-hamburg.de/kurse_workshops/hip-hop-tanzkurs-creative-flow-796771
DESCRIPTION:Hip-Hop Tanzkurs in der Zielschmelze – Werde Teil der Crew!
UID:cc3bdb35c1a39b9d7bb745a3420966be@kulturhamburg
END:VEVENT
END:VCALENDAR