BEGIN:VCALENDAR
VERSION:2.0
PRODID:-//STADTKULTUR HAMBURG//kultur-hamburg.de///DE
CALSCALE:GREGORIAN
BEGIN:VEVENT
X-WR-TIMEZONE:Europe/Berlin
DTSTART:20120626T110000
DTEND:20120628T150000
LOCATION:TASK Schauspielschule für Kinder und Jugendliche \, Stresemannstraße 163 (Neue Flora) \, 22769 Hamburg
DTSTAMP:20260424T075638
SUMMARY:Ferienworkshops ab 10 J.: Das Schauspiel-ABC
URL;VALUE=URI:https://www.kultur-hamburg.de/kurse_workshops/ferienworkshops-ab-10-j.-das-schauspiel-abc-79687
DESCRIPTION:Kinder ab 10 Jahren spielen nach Einführung in die schauspielerischen Grundlagen kleinen Szenen auf der Bühne und probieren das frisch erlernte Wissen vor der Kamera aus
UID:15696d20f5efb33c77e211bb78a0f43d@kulturhamburg
END:VEVENT
END:VCALENDAR