BEGIN:VCALENDAR
VERSION:2.0
PRODID:-//STADTKULTUR HAMBURG//kultur-hamburg.de///DE
CALSCALE:GREGORIAN
BEGIN:VEVENT
X-WR-TIMEZONE:Europe/Berlin
DTSTART:20120717T110000
DTEND:20120719T150000
LOCATION:TASK Schauspielschule für Kinder und Jugendliche \, Stresemannstraße 163 (Neue Flora) \, 22769 Hamburg
DTSTAMP:20260424T030029
SUMMARY:Ferienworkshops ab 10 J.: Das Schauspiel-ABC
URL;VALUE=URI:https://www.kultur-hamburg.de/kurse_workshops/ferienworkshops-ab-10-j.-das-schauspiel-abc-79688
DESCRIPTION:Kinder ab 10 Jahren spielen nach Einführung in die schauspielerischen Grundlagen kleinen Szenen auf der Bühne und probieren das frisch erlernte Wissen vor der Kamera aus
UID:7c39bb0417320f716a56ec3d52552b01@kulturhamburg
END:VEVENT
END:VCALENDAR