BEGIN:VCALENDAR
VERSION:2.0
PRODID:-//STADTKULTUR HAMBURG//kultur-hamburg.de///DE
CALSCALE:GREGORIAN
BEGIN:VEVENT
X-WR-TIMEZONE:Europe/Berlin
DTSTART:20260523T190000
DTEND:20260523T210000
LOCATION:Mut! Theater \, Amandastraße 58 \, 20357 Hamburg
DTSTAMP:20260423T042021
SUMMARY:Ukrainisches Standup Comedy ( auf Ukrainisch)
URL;VALUE=URI:https://www.kultur-hamburg.de/veranstaltungen/ukrainisches-standup-comedy--auf-ukrainisch-798149
DESCRIPTION:Viele haben uns geschrieben: „Wann kommt „A Very Serious Conversation“ endlich in unsere Stadt?“ – und jetzt ist es soweit!
Zum ersten Mal überhaupt gehen wir auf große Europatournee.
Auf der Bühne: Lieblingsgäste, absurde Aufgaben, unvorhersehbare Improvisation und die Atmosphäre einer echten Kröte.
Kein Schnitt, keine zweite Aufnahme – nur Live-Energie, Lachen und pures Chaos.
„A Very Serious Conversation in Europa“ – wir sehen uns live!
UID:cb86ede88fb05d745736dbaef2ee339a@kulturhamburg
END:VEVENT
END:VCALENDAR