BEGIN:VCALENDAR
VERSION:2.0
PRODID:-//STADTKULTUR HAMBURG//kultur-hamburg.de///DE
CALSCALE:GREGORIAN
BEGIN:VEVENT
X-WR-TIMEZONE:Europe/Berlin
DTSTART:20260507T194500
DTEND:20260507T214500
LOCATION:Horner Freiheit \, Am Gojenboom 46 \, 22111 Hamburg
DTSTAMP:20260419T233411
SUMMARY:Tanzkreis "Op'n Böön"
URL;VALUE=URI:https://www.kultur-hamburg.de/veranstaltungen/tanzkreis-op'n-boeoen-799267
DESCRIPTION:Folkloretanz
UID:9b72feb8b7b62aa7549e5d6248b09279@kulturhamburg
END:VEVENT
END:VCALENDAR