BEGIN:VCALENDAR
VERSION:2.0
PRODID:-//STADTKULTUR HAMBURG//kultur-hamburg.de///DE
CALSCALE:GREGORIAN
BEGIN:VEVENT
X-WR-TIMEZONE:Europe/Berlin
DTSTART:20260514T194500
DTEND:20260514T214500
LOCATION:Horner Freiheit \, Am Gojenboom 46 \, 22111 Hamburg
DTSTAMP:20260422T111424
SUMMARY:Tanzkreis "Op'n Böön"
URL;VALUE=URI:https://www.kultur-hamburg.de/veranstaltungen/tanzkreis-op'n-boeoen-799268
DESCRIPTION:Folkloretanz
UID:9a7f7d641f92000071441375ae03a937@kulturhamburg
END:VEVENT
END:VCALENDAR