BEGIN:VCALENDAR
VERSION:2.0
PRODID:-//STADTKULTUR HAMBURG//kultur-hamburg.de///DE
CALSCALE:GREGORIAN
BEGIN:VEVENT
X-WR-TIMEZONE:Europe/Berlin
DTSTART:20260521T194500
DTEND:20260521T214500
LOCATION:Horner Freiheit \, Am Gojenboom 46 \, 22111 Hamburg
DTSTAMP:20260423T004803
SUMMARY:Tanzkreis "Op'n Böön"
URL;VALUE=URI:https://www.kultur-hamburg.de/veranstaltungen/tanzkreis-op'n-boeoen-799269
DESCRIPTION:Folkloretanz
UID:c32883e506cac6bcebaf1192605f428a@kulturhamburg
END:VEVENT
END:VCALENDAR